BEGIN:VCALENDAR
VERSION:2.0
PRODID:-//ChamberMaster//Event Calendar 2.0//EN
METHOD:PUBLISH
X-PUBLISHED-TTL:P3D
REFRESH-INTERVAL:P3D
CALSCALE:GREGORIAN
BEGIN:VEVENT
DTSTART:20221006T210000Z
DTEND:20221007T000000Z
X-MICROSOFT-CDO-ALLDAYEVENT:FALSE
SUMMARY:Community Market Wetumpka
DESCRIPTION:The Community Market showcases a variety of handmade\, homemade and homegrown products created by local artisans\, and farmers. It features over 40 unique booths and vendors and one-of a-kind items each month. Market favorite include: fresh locally grown produce\, honey\, jams\, jellies\, salsa\, pottery\, art\, leather products\, fresh bakes goods\, wood items\, wreaths\, plants\, and much more ! The Market is open to the public\, and there is no charge for admission.
X-ALT-DESC;FMTTYPE=text/html:The Community Market showcases a variety of handmade\, homemade and homegrown products created by local artisans\, and farmers. It features over 40 unique booths and vendors and one-of a-kind items each month. Market favorite include: fresh locally grown produce\, honey\, jams\, jellies\, salsa\, pottery\, art\, leather products\, fresh bakes goods\, wood items\, wreaths\, plants\, and much more ! The Market is open to the public\, and there is no charge for admission.
LOCATION:Merchant's Ally in Downtown Wetumpka
UID:e.1981.43825
SEQUENCE:3
DTSTAMP:20260423T125954Z
URL:http://business.wetumpkachamber.org/events/details/community-market-10-06-2022-43825
END:VEVENT

END:VCALENDAR
