BEGIN:VCALENDAR
VERSION:2.0
PRODID:-//ChamberMaster//Event Calendar 2.0//EN
METHOD:PUBLISH
X-PUBLISHED-TTL:P3D
REFRESH-INTERVAL:P3D
CALSCALE:GREGORIAN
BEGIN:VEVENT
DTSTART:20130107T233000Z
DTEND:20130118T020000Z
X-MICROSOFT-CDO-ALLDAYEVENT:FALSE
SUMMARY:Annual Meeting 2013
DESCRIPTION:Chef Paul Creek Casino Catering
X-ALT-DESC;FMTTYPE=text/html:Chef Paul Creek Casino Catering
LOCATION:Wetumpka Civic Center
UID:e.1981.38845
SEQUENCE:3
DTSTAMP:20260422T102625Z
URL:https://business.wetumpkachamber.org/events/details/annual-meeting-2013-01-07-2013-38845
END:VEVENT

END:VCALENDAR
