BEGIN:VCALENDAR
VERSION:2.0
PRODID:-//ChamberMaster//Event Calendar 2.0//EN
METHOD:PUBLISH
X-PUBLISHED-TTL:P3D
REFRESH-INTERVAL:P3D
CALSCALE:GREGORIAN
BEGIN:VEVENT
DTSTART:20120320T223000Z
DTEND:20120320T233000Z
X-MICROSOFT-CDO-ALLDAYEVENT:FALSE
SUMMARY:Ask The Experts - Marketing Magic
DESCRIPTION:
X-ALT-DESC;FMTTYPE=text/html:
LOCATION:Jeanette Barrett Room
UID:e.1981.31657
SEQUENCE:3
DTSTAMP:20260423T001359Z
URL:https://business.wetumpkachamber.org/events/details/ask-the-experts-marketing-magic-03-20-2012-31657
END:VEVENT

END:VCALENDAR
