BEGIN:VCALENDAR
VERSION:2.0
PRODID:-//ChamberMaster//Event Calendar 2.0//EN
METHOD:PUBLISH
X-PUBLISHED-TTL:P3D
REFRESH-INTERVAL:P3D
CALSCALE:GREGORIAN
BEGIN:VEVENT
DTSTART:20120405T100000Z
DTEND:20120405T120000Z
X-MICROSOFT-CDO-ALLDAYEVENT:FALSE
SUMMARY:Business After Hours 4-5-12
DESCRIPTION:
X-ALT-DESC;FMTTYPE=text/html:
LOCATION:Wetumpka Depot Theatre
UID:e.1981.31854
SEQUENCE:3
DTSTAMP:20260422T220420Z
URL:https://business.wetumpkachamber.org/events/details/business-after-hours-4-5-12-04-05-2012-31854
END:VEVENT

END:VCALENDAR
