BEGIN:VCALENDAR
VERSION:2.0
PRODID:-//ChamberMaster//Event Calendar 2.0//EN
METHOD:PUBLISH
X-PUBLISHED-TTL:P3D
REFRESH-INTERVAL:P3D
CALSCALE:GREGORIAN
BEGIN:VEVENT
DTSTART:20130813T190000Z
DTEND:20130813T230000Z
X-MICROSOFT-CDO-ALLDAYEVENT:FALSE
SUMMARY:Business Expo Participant 2013
DESCRIPTION:
X-ALT-DESC;FMTTYPE=text/html:
LOCATION:Wetumpka Civic Center
UID:e.1981.41822
SEQUENCE:3
DTSTAMP:20260422T013207Z
URL:https://business.wetumpkachamber.org/events/details/business-expo-participant-2013-08-13-2013-41822
END:VEVENT

END:VCALENDAR
