BEGIN:VCALENDAR
VERSION:2.0
PRODID:-//ChamberMaster//Event Calendar 2.0//EN
METHOD:PUBLISH
X-PUBLISHED-TTL:P3D
REFRESH-INTERVAL:P3D
CALSCALE:GREGORIAN
BEGIN:VEVENT
DTSTART:20241019T140000Z
DTEND:20241019T180000Z
X-MICROSOFT-CDO-ALLDAYEVENT:FALSE
SUMMARY:Fall Market
DESCRIPTION:Join us at the City of Wetumpka Farmers Market for our Fall Market. We will have various vendors from arts & crafts to your favorite baked goods. There will surely be something for everyone.
X-ALT-DESC;FMTTYPE=text/html:Join us at the City of Wetumpka Farmers Market for our Fall Market. We will have various vendors from arts &amp\; crafts to your favorite baked goods. There will surely be something for everyone.
LOCATION:City of Wetumpka Farmers Market 304 E. Coosa St. Wetumpka\, AL. 36092
UID:e.1981.44078
SEQUENCE:3
DTSTAMP:20260426T041453Z
URL:https://business.wetumpkachamber.org/events/details/fall-market-10-19-2024-44078
END:VEVENT

END:VCALENDAR
