BEGIN:VCALENDAR
VERSION:2.0
PRODID:-//ChamberMaster//Event Calendar 2.0//EN
METHOD:PUBLISH
X-PUBLISHED-TTL:P3D
REFRESH-INTERVAL:P3D
CALSCALE:GREGORIAN
BEGIN:VEVENT
DTSTART:20260422T123000Z
DTEND:20260422T133000Z
X-MICROSOFT-CDO-ALLDAYEVENT:FALSE
SUMMARY:Hope in Motion Tour with the Heart of Alabama Food Bank
DESCRIPTION:Have you ever wondered how the Heart of Alabama Food Bank serves over 12\,980 food insecure children\, adults and seniors across Elmore County?\n\n\n\nJoin Jamie Brown\, Director of Corporate and Community Partnerships\, for a Brew and View (coffee)\, Bites and Insights (lunch) or After Hours for Hope (refreshments) tour to learn about how the Heart of Alabama Food Bank serves our communities.
X-ALT-DESC;FMTTYPE=text/html:Have you ever wondered how the Heart of Alabama Food Bank serves over 12\,980 food insecure children\, adults and seniors across Elmore County?<br />\n<br />\nJoin Jamie Brown\, Director of Corporate and Community Partnerships\, for a Brew and View (coffee)\, Bites and Insights (lunch) or After Hours for Hope (refreshments) tour to learn about how the Heart of Alabama Food Bank serves our communities.
LOCATION:Heart of Alabama Food Bank\, 521 Trade Center Street\, Building #1\, Montgomery\, AL 36108
UID:e.1981.44279
SEQUENCE:3
DTSTAMP:20260420T020822Z
URL:https://business.wetumpkachamber.org/events/details/hope-in-motion-tour-with-the-heart-of-alabama-food-bank-04-22-2026-44279
END:VEVENT

END:VCALENDAR
