BEGIN:VCALENDAR
VERSION:2.0
PRODID:-//ChamberMaster//Event Calendar 2.0//EN
METHOD:PUBLISH
X-PUBLISHED-TTL:P3D
REFRESH-INTERVAL:P3D
CALSCALE:GREGORIAN
BEGIN:VEVENT
DTSTART;VALUE=DATE:20111122
DTEND;VALUE=DATE:20111123
TRANSP:TRANSPARENT
X-MICROSOFT-CDO-ALLDAYEVENT:TRUE
SUMMARY:Light Up Downtown Wetumpka Grant Recipients
DESCRIPTION:
X-ALT-DESC;FMTTYPE=text/html:
LOCATION:
UID:e.1981.29704
SEQUENCE:3
DTSTAMP:20260423T033621Z
URL:https://business.wetumpkachamber.org/events/details/light-up-downtown-wetumpka-grant-recipients-11-22-2011-29704
END:VEVENT

END:VCALENDAR
