BEGIN:VCALENDAR
VERSION:2.0
PRODID:-//ChamberMaster//Event Calendar 2.0//EN
METHOD:PUBLISH
X-PUBLISHED-TTL:P3D
REFRESH-INTERVAL:P3D
CALSCALE:GREGORIAN
BEGIN:VEVENT
DTSTART:20120821T103000Z
DTEND:20120821T113000Z
X-MICROSOFT-CDO-ALLDAYEVENT:FALSE
SUMMARY:MWB Ask The Experts Forum 8/21/12
DESCRIPTION:
X-ALT-DESC;FMTTYPE=text/html:
LOCATION:Jeanette Barrett Civic Room
UID:e.1981.35914
SEQUENCE:3
DTSTAMP:20260422T182642Z
URL:https://business.wetumpkachamber.org/events/details/mwb-ask-the-experts-forum-8-21-12-08-21-2012-35914
END:VEVENT

END:VCALENDAR
