BEGIN:VCALENDAR
VERSION:2.0
PRODID:-//ChamberMaster//Event Calendar 2.0//EN
METHOD:PUBLISH
X-PUBLISHED-TTL:P3D
REFRESH-INTERVAL:P3D
CALSCALE:GREGORIAN
BEGIN:VEVENT
DTSTART:20120314T050000Z
DTEND:20120314T063000Z
X-MICROSOFT-CDO-ALLDAYEVENT:FALSE
SUMMARY:Quarterly Luncheon 3-14-12
DESCRIPTION:"The New Logistics for Small Business"\nPresented by Dave Wilson\, the Mid-South Marketing Executive for UPS in Birmingham\nCatering provided by Emma's Catering
X-ALT-DESC;FMTTYPE=text/html:"The New Logistics for Small Business"\nPresented by Dave Wilson\, the Mid-South Marketing Executive for UPS in Birmingham\nCatering provided by Emma's Catering
LOCATION:Wetumpka Civic Center
UID:e.1981.31422
SEQUENCE:3
DTSTAMP:20260422T230856Z
URL:https://business.wetumpkachamber.org/events/details/quarterly-luncheon-3-14-12-03-14-2012-31422
END:VEVENT

END:VCALENDAR
