BEGIN:VCALENDAR
VERSION:2.0
PRODID:-//ChamberMaster//Event Calendar 2.0//EN
METHOD:PUBLISH
X-PUBLISHED-TTL:P3D
REFRESH-INTERVAL:P3D
CALSCALE:GREGORIAN
BEGIN:VEVENT
DTSTART:20130315T163000Z
DTEND:20130315T180000Z
X-MICROSOFT-CDO-ALLDAYEVENT:FALSE
SUMMARY:Quarterly Luncheon 3/15/13
DESCRIPTION:Bill Canary\, Speaker
X-ALT-DESC;FMTTYPE=text/html:Bill Canary\, Speaker
LOCATION:Civic Center
UID:e.1981.39489
SEQUENCE:3
DTSTAMP:20260422T075733Z
URL:https://business.wetumpkachamber.org/events/details/quarterly-luncheon-3-15-13-03-15-2013-39489
END:VEVENT

END:VCALENDAR
