BEGIN:VCALENDAR
VERSION:2.0
PRODID:-//ChamberMaster//Event Calendar 2.0//EN
METHOD:PUBLISH
X-PUBLISHED-TTL:P3D
REFRESH-INTERVAL:P3D
CALSCALE:GREGORIAN
BEGIN:VEVENT
DTSTART:20120614T163100Z
DTEND:20120614T180000Z
X-MICROSOFT-CDO-ALLDAYEVENT:FALSE
SUMMARY:Quarterly Luncheon 6/14/12
DESCRIPTION:Guest Speaker: Edgar Welden
X-ALT-DESC;FMTTYPE=text/html:Guest Speaker: Edgar Welden
LOCATION:Wetumpka Civic Center
UID:e.1981.33096
SEQUENCE:3
DTSTAMP:20260422T193819Z
URL:https://business.wetumpkachamber.org/events/details/quarterly-luncheon-6-14-12-06-14-2012-33096
END:VEVENT

END:VCALENDAR
