BEGIN:VCALENDAR
VERSION:2.0
PRODID:-//ChamberMaster//Event Calendar 2.0//EN
METHOD:PUBLISH
X-PUBLISHED-TTL:P3D
REFRESH-INTERVAL:P3D
CALSCALE:GREGORIAN
BEGIN:VEVENT
DTSTART:20120821T050000Z
DTEND:20120821T060000Z
X-MICROSOFT-CDO-ALLDAYEVENT:FALSE
SUMMARY:Quarterly Luncheon 8/21/12
DESCRIPTION:
X-ALT-DESC;FMTTYPE=text/html:
LOCATION:Wetumpka Civic Center Creek Casino Catering
UID:e.1981.35767
SEQUENCE:3
DTSTAMP:20260422T170932Z
URL:https://business.wetumpkachamber.org/events/details/quarterly-luncheon-8-21-12-08-21-2012-35767
END:VEVENT

END:VCALENDAR
