BEGIN:VCALENDAR
VERSION:2.0
PRODID:-//ChamberMaster//Event Calendar 2.0//EN
METHOD:PUBLISH
X-PUBLISHED-TTL:P3D
REFRESH-INTERVAL:P3D
CALSCALE:GREGORIAN
BEGIN:VEVENT
DTSTART:20130613T163100Z
DTEND:20130613T183000Z
X-MICROSOFT-CDO-ALLDAYEVENT:FALSE
SUMMARY:Quarterly Luncheon June 13 2013
DESCRIPTION:
X-ALT-DESC;FMTTYPE=text/html:
LOCATION:
UID:e.1981.41680
SEQUENCE:3
DTSTAMP:20260422T035458Z
URL:https://business.wetumpkachamber.org/events/details/quarterly-luncheon-june-13-2013-06-13-2013-41680
END:VEVENT

END:VCALENDAR
