BEGIN:VCALENDAR
VERSION:2.0
PRODID:-//ChamberMaster//Event Calendar 2.0//EN
METHOD:PUBLISH
X-PUBLISHED-TTL:P3D
REFRESH-INTERVAL:P3D
CALSCALE:GREGORIAN
BEGIN:VEVENT
DTSTART:20130521T160000Z
DTEND:20130521T180000Z
X-MICROSOFT-CDO-ALLDAYEVENT:FALSE
SUMMARY:Retiree Appreciation Luncheon
DESCRIPTION:
X-ALT-DESC;FMTTYPE=text/html:
LOCATION:Wetumpka Depot Theatre
UID:e.1981.41190
SEQUENCE:3
DTSTAMP:20260422T050912Z
URL:https://business.wetumpkachamber.org/events/details/retiree-appreciation-luncheon-05-21-2013-41190
END:VEVENT

END:VCALENDAR
