BEGIN:VCALENDAR
VERSION:2.0
PRODID:-//ChamberMaster//Event Calendar 2.0//EN
METHOD:PUBLISH
X-PUBLISHED-TTL:P3D
REFRESH-INTERVAL:P3D
CALSCALE:GREGORIAN
BEGIN:VEVENT
DTSTART:20120522T050000Z
DTEND:20120522T070000Z
X-MICROSOFT-CDO-ALLDAYEVENT:FALSE
SUMMARY:Retiree Luncheon
DESCRIPTION:
X-ALT-DESC;FMTTYPE=text/html:
LOCATION:Wetumpka Depot Theatre
UID:e.1981.32835
SEQUENCE:3
DTSTAMP:20260422T221332Z
URL:https://business.wetumpkachamber.org/events/details/retiree-luncheon-05-22-2012-32835
END:VEVENT

END:VCALENDAR
