BEGIN:VCALENDAR
VERSION:2.0
PRODID:-//ChamberMaster//Event Calendar 2.0//EN
METHOD:PUBLISH
X-PUBLISHED-TTL:P3D
REFRESH-INTERVAL:P3D
CALSCALE:GREGORIAN
BEGIN:VEVENT
DTSTART:20230203T000000Z
DTEND:20230203T023000Z
X-MICROSOFT-CDO-ALLDAYEVENT:FALSE
SUMMARY:The Depot Theatre Reception and Performance
DESCRIPTION:Join us for a Chamber Member reception and COMPLIMENTARY performance of the new comedy HOLLYWOOD\, NEBRASKA.  Wear your Hollywood glam or Nebraska Jeans and get to know our award-winning community theatre! \n\nSponsorship and advertisement opportunity is available for this show.  \n\nContact kmeanor@wetumpkadepot.com to get your business logo in the playbill and support our one-of-a-kind community theatre.
X-ALT-DESC;FMTTYPE=text/html:Join us for a Chamber Member reception and COMPLIMENTARY performance of the new comedy HOLLYWOOD\, NEBRASKA.&nbsp\; Wear your Hollywood glam or Nebraska Jeans and get to know our award-winning community theatre!&nbsp\;<br />\nSponsorship and advertisement opportunity is available for this show.&nbsp\;&nbsp\;<br />\nContact kmeanor@wetumpkadepot.com to get your business logo in the playbill and support our one-of-a-kind community theatre.&nbsp\;
LOCATION:The Wetumpka Depot Players Theatre 300 South Main Street Wetumpka\, AL
UID:e.1981.43933
SEQUENCE:3
DTSTAMP:20260421T174556Z
URL:https://business.wetumpkachamber.org/events/details/the-depot-theatre-reception-and-performance-43933
END:VEVENT

END:VCALENDAR
